BEGIN:VCALENDAR
VERSION:2.0
PRODID:-//Eventin//Event Calendar//EN
CALSCALE:GREGORIAN
METHOD:PUBLISH
BEGIN:VEVENT
UID:daf7b65de7b65fdcb960f0db2c0ab11a@agile103.com
SUMMARY:Hands-On: Jira JQL Queries
DESCRIPTION:Facilitated by Tox B.\nStop scrolling through your backlog. Sta
 rt querying it.\nWelcome to Jira JQL:\nJQL — Jira Query Language — is o
 ne of the most underused and most powerful features in Jira. If you're stil
 l filtering your board manually or relying on default views\, this session 
 will change how you work in Jira forever.\nWhat We'll Cover:\n\nWhat JQL is
  and how it works (no coding experience required)\nJQL syntax basics: field
 s\, operators\, values\, and keywords\nThe most useful JQL queries every Ag
 ile practitioner should know:\n\nAll issues assigned to me in the current s
 print\nIssues updated in the last 7 days\nUnresolved bugs by priority\nStor
 ies without acceptance criteria\nEverything due this week\n\n\nHow to save 
 queries as filters and share them with your team\nBuilding dashboards in Ji
 ra using your saved JQL filters\nAdvanced JQL: using AND\, OR\, NOT\, ORDER
  BY\, and functions like currentUser()\, startOfWeek()\n\nLive Hands-On Pra
 ctice:\nThis is not a lecture. Every student will write and run real JQL qu
 eries in their own Jira instance during the session. Bring your Jira login 
 — free or paid accounts both work.\nWho Should Attend:\n• Scrum Masters
  who want better visibility into sprint health• Product Owners managing l
 arge backlogs• Anyone who uses Jira daily and wants to work smarter\, not
  harder\nBenefits of Attending This Session:\nParticipants will leave with 
 a personal library of JQL queries they can use immediately\, the ability to
  build custom dashboards\, and a skill that makes them more valuable on any
  Agile team.
LOCATION:Online
DTSTAMP:20260424T134124Z
DTSTART:20260430T230000Z
DTEND:20260501T010000Z
END:VEVENT
END:VCALENDAR
